BEGIN:VCALENDAR
VERSION:2.0
PRODID:SchoolNow
CALSCALE:GREGORIAN
BEGIN:VEVENT
UID:4aca6960-f023-11ed-a4f0-02b00eecaa53
DTSTAMP:20230511T174326Z
SUMMARY:Training Seminar
URL;VALUE=URI:https://www.rdusd.org/website-training/calendar/4224835/train
 ing-seminar
DTSTART:20230511T174100Z
DTEND:20230511T184100Z
END:VEVENT
END:VCALENDAR
